BEGIN:VCALENDAR
VERSION:2.0
PRODID:-//wp-events-plugin.com//7.2.3.1//EN
BEGIN:VEVENT
UID:980@maasaiculturecenter.com
DTSTART:20260425T100000Z
DTEND:20260425T170000Z
DTSTAMP:20260207T184940Z
URL:https://maasaiculturecenter.com/events/maasai-warrior-training-2026-04
 -25/
SUMMARY:Maasai Warrior Training
DESCRIPTION:Become a Maasai Warrior for a Day! Master spear throwing\, craf
 t your own shield\, and dive into the rich traditions of this legendary pe
 ople. Hear firsthand tales of courage and community\, then test your aim w
 ith a real spear.
ATTACH;FMTTYPE=image/jpeg:https://maasaiculturecenter.com/wp-content/uploa
 ds/2024/11/41B42EDE-69A9-498D-B46D-59449F7DDC41-scaled.jpeg
CATEGORIES:Activities
LOCATION:Maasai Culture Center\,  3.3546229661296554\, 35\, 65370420194804\
 , Karatu\, Tanzania
GEO:-3.345404;35.66968
X-APPLE-STRUCTURED-LOCATION;VALUE=URI;X-ADDRESS= 3.3546229661296554\, 35\, 
 65370420194804\, Karatu\, Tanzania;X-APPLE-RADIUS=100;X-TITLE=Maasai Cultu
 re Center:geo:-3.345404,35.66968
END:VEVENT
END:VCALENDAR