BEGIN:VCALENDAR
VERSION:2.0
PRODID:-//wp-events-plugin.com//7.2.3.1//EN
BEGIN:VEVENT
UID:2575@maasaiculturecenter.com
DTSTART:20260704T100000Z
DTEND:20260704T170000Z
DTSTAMP:20260207T185717Z
URL:https://maasaiculturecenter.com/events/storytelling-sessions-2026-01-0
 1-2026-01-03-2026-01-06-2026-01-08-2026-01-10-2026-01-13-2026-01-15-2026-0
 1-17-2026-01-20-2026-01-22-2026-01-24-2026-01-27-2026-01-29-2026-01-31-202
 6-02-03-02-2026-07-04/
SUMMARY:Storytelling Sessions
DESCRIPTION:Journey into Maasai Lore: Stories from the Elders. Experience t
 he magic of Maasai storytelling. Gather around elders as they weave tales 
 of ancient wisdom and folklore\, offering a unique glimpse into their cult
 ure.
ATTACH;FMTTYPE=image/jpeg:https://maasaiculturecenter.com/wp-content/uploa
 ds/2024/11/33367EF6-CC48-402F-9EDA-F4F7A413BA09-scaled.jpeg
CATEGORIES:Activities
LOCATION:Maasai Culture Center\,  3.3546229661296554\, 35\, 65370420194804\
 , Karatu\, Tanzania
GEO:-3.345404;35.66968
X-APPLE-STRUCTURED-LOCATION;VALUE=URI;X-ADDRESS= 3.3546229661296554\, 35\, 
 65370420194804\, Karatu\, Tanzania;X-APPLE-RADIUS=100;X-TITLE=Maasai Cultu
 re Center:geo:-3.345404,35.66968
END:VEVENT
END:VCALENDAR