BEGIN:VCALENDAR
VERSION:2.0
PRODID:-//wp-events-plugin.com//7.2.3.1//EN
BEGIN:VEVENT
UID:2857@maasaiculturecenter.com
DTSTART:20260423T100000Z
DTEND:20260423T170000Z
DTSTAMP:20260207T185840Z
URL:https://maasaiculturecenter.com/events/traditional-dance-2026-01-01-20
 26-01-03-2026-01-06-2026-01-08-2026-01-10-2026-01-13-2026-01-15-2026-01-17
 -2026-01-20-2026-01-22-2026-01-24-2026-01-27-2026-01-29-2026-01-31-2026-02
 -03-202-21-2026-04-23/
SUMMARY:Traditional Dance
DESCRIPTION:Celebrate with the Maasai: Song and Dance. Immerse yourself in 
 the vibrant traditions of Maasai celebrations. See captivating dances and 
 hear powerful songs that mark life's milestones\, from weddings to initiat
 ions.
ATTACH;FMTTYPE=image/jpeg:https://maasaiculturecenter.com/wp-content/uploa
 ds/2025/02/116-DSC_0085-scaled.jpg
CATEGORIES:Activities
LOCATION:Maasai Culture Center\,  3.3546229661296554\, 35\, 65370420194804\
 , Karatu\, Tanzania
GEO:-3.345404;35.66968
X-APPLE-STRUCTURED-LOCATION;VALUE=URI;X-ADDRESS= 3.3546229661296554\, 35\, 
 65370420194804\, Karatu\, Tanzania;X-APPLE-RADIUS=100;X-TITLE=Maasai Cultu
 re Center:geo:-3.345404,35.66968
END:VEVENT
END:VCALENDAR